BEGIN:VCALENDAR
VERSION:2.0
PRODID:-//Canoe Place Inn - ECPv6.15.20//NONSGML v1.0//EN
CALSCALE:GREGORIAN
METHOD:PUBLISH
X-WR-CALNAME:Canoe Place Inn
X-ORIGINAL-URL:https://canoeplace.com
X-WR-CALDESC:Events for Canoe Place Inn
REFRESH-INTERVAL;VALUE=DURATION:PT1H
X-Robots-Tag:noindex
X-PUBLISHED-TTL:PT1H
BEGIN:VTIMEZONE
TZID:America/New_York
BEGIN:DAYLIGHT
TZOFFSETFROM:-0500
TZOFFSETTO:-0400
TZNAME:EDT
DTSTART:20230312T070000
END:DAYLIGHT
BEGIN:STANDARD
TZOFFSETFROM:-0400
TZOFFSETTO:-0500
TZNAME:EST
DTSTART:20231105T060000
END:STANDARD
BEGIN:DAYLIGHT
TZOFFSETFROM:-0500
TZOFFSETTO:-0400
TZNAME:EDT
DTSTART:20240310T070000
END:DAYLIGHT
BEGIN:STANDARD
TZOFFSETFROM:-0400
TZOFFSETTO:-0500
TZNAME:EST
DTSTART:20241103T060000
END:STANDARD
BEGIN:DAYLIGHT
TZOFFSETFROM:-0500
TZOFFSETTO:-0400
TZNAME:EDT
DTSTART:20250309T070000
END:DAYLIGHT
BEGIN:STANDARD
TZOFFSETFROM:-0400
TZOFFSETTO:-0500
TZNAME:EST
DTSTART:20251102T060000
END:STANDARD
END:VTIMEZONE
BEGIN:VEVENT
DTSTART;TZID=America/New_York:20240919T180000
DTEND;TZID=America/New_York:20240919T210000
DTSTAMP:20260422T083424
CREATED:20240906T211241Z
LAST-MODIFIED:20240920T161436Z
UID:10000197-1726768800-1726779600@canoeplace.com
SUMMARY:Ma’s House 2024 Friendraiser
DESCRIPTION:Ma’s House is hosting their 2024 Friendraiser on Thursday\, September 19\, at the historic Canoe Place Inn. The evening is a celebration of the arts and BIPOC communities in the Hamptons with a program honoring three individuals for their contributions to these communities: \n\n\n\n\n\nLisa Goree\, Chair of the Shinnecock Nation Tribal Council and Southampton Town Assessor\n\n\n\n\n\n\nAnthony Madonna\, Guild Hall’s Patti Kenner Director of Learning + New Works\n\n\n\n\n\n\nFred W. Thiele\, Jr.\, New York State Assemblyman\, District 1\n\n\n\n\n\n\n\nThe evening will include performances by Native American musicians\, including Shinnecock vocalists The Thunderbird Sisters\, Cherokee drummer Jeffrey Pegram\, and Shinnecock cover artist / acoustic performer Matt Hunter. There will also be a silent auction featuring 30 artworks by BIPOC artists and several VIP experiences at Foxwoods. \n\n\n\n Learn more about Ma’s House here: www.mashouse.studio\n\n\n\n\n 
URL:https://canoeplace.com/event/mas-house-2024-friendraiser/
CATEGORIES:Community Events
ATTACH;FMTTYPE=image/png:https://canoeplace.com/wp-content/uploads/2024/09/Mas-House-1.png
END:VEVENT
BEGIN:VEVENT
DTSTART;TZID=America/New_York:20240914T090000
DTEND;TZID=America/New_York:20240914T120000
DTSTAMP:20260422T083424
CREATED:20240912T193800Z
LAST-MODIFIED:20240917T125249Z
UID:10000200-1726304400-1726315200@canoeplace.com
SUMMARY:"Over the Bridge" 5K & 10K Run/Walk
DESCRIPTION:The Course:  \nOur unique race course highlights the beautiful vistas along the Atlantic Ocean\, Shinnecock Inlet\, Shinnecock Bay offering extraordinarily\, breathtaking views from the Ponquogue Bridge. The route showcases the residential neighborhoods of Hampton Bays. While the course is generally flat and fast\, it also includes the exhilarating challenge of crossing the Ponquogue Bridge. \nIf you are interested in registering for the event click here. \n 
URL:https://canoeplace.com/event/over-the-bridge-5k-10k-run-walk/
CATEGORIES:Community Events
ATTACH;FMTTYPE=image/png:https://canoeplace.com/wp-content/uploads/2024/09/Race.png
END:VEVENT
BEGIN:VEVENT
DTSTART;TZID=America/New_York:20240504T110000
DTEND;TZID=America/New_York:20240504T130000
DTSTAMP:20260422T083424
CREATED:20240419T012920Z
LAST-MODIFIED:20240507T230001Z
UID:10000124-1714820400-1714827600@canoeplace.com
SUMMARY:Surfrider Foundation Ponquogue Beach Clean Up Sponsored by Canoe Place
DESCRIPTION:Join us to remove debris from Ponquogue Beach & help ensure a healthy environment! Registration required. To sign up hit NEXT then ACCEPT. \nPurpose\nOur local beaches are stewarded by volunteers just like you! We welcome you to an engaging day of toes in the sand with family\, friends and new acquaintances\, raising awareness about litter and plastic pollution.  \nYour Role\nUpon arrival\, you will learn more about how to safely skim the beaches for waste that doesn’t belong. We will also go over how to record data on trash collected. This allows us to use data to influence laws and reduce waste at the source! \nVibe\nActive teamwork\, education and fun!
URL:https://canoeplace.com/event/beach_clean_up/
CATEGORIES:Activities,Community Events
ATTACH;FMTTYPE=image/png:https://canoeplace.com/wp-content/uploads/2024/05/Screenshot-2024-04-18-at-5.40.46-PM.png
END:VEVENT
END:VCALENDAR