BEGIN:VCALENDAR
VERSION:2.0
PRODID:-//Canoe Place Inn - ECPv6.15.20//NONSGML v1.0//EN
CALSCALE:GREGORIAN
METHOD:PUBLISH
X-ORIGINAL-URL:https://canoeplace.com
X-WR-CALDESC:Events for Canoe Place Inn
REFRESH-INTERVAL;VALUE=DURATION:PT1H
X-Robots-Tag:noindex
X-PUBLISHED-TTL:PT1H
BEGIN:VTIMEZONE
TZID:America/New_York
BEGIN:DAYLIGHT
TZOFFSETFROM:-0500
TZOFFSETTO:-0400
TZNAME:EDT
DTSTART:20260308T070000
END:DAYLIGHT
BEGIN:STANDARD
TZOFFSETFROM:-0400
TZOFFSETTO:-0500
TZNAME:EST
DTSTART:20261101T060000
END:STANDARD
BEGIN:DAYLIGHT
TZOFFSETFROM:-0500
TZOFFSETTO:-0400
TZNAME:EDT
DTSTART:20270314T070000
END:DAYLIGHT
BEGIN:STANDARD
TZOFFSETFROM:-0400
TZOFFSETTO:-0500
TZNAME:EST
DTSTART:20271107T060000
END:STANDARD
BEGIN:DAYLIGHT
TZOFFSETFROM:-0500
TZOFFSETTO:-0400
TZNAME:EDT
DTSTART:20280312T070000
END:DAYLIGHT
BEGIN:STANDARD
TZOFFSETFROM:-0400
TZOFFSETTO:-0500
TZNAME:EST
DTSTART:20281105T060000
END:STANDARD
END:VTIMEZONE
BEGIN:VEVENT
DTSTART;TZID=America/New_York:20270901T170000
DTEND;TZID=America/New_York:20270901T200000
DTSTAMP:20260425T113719
CREATED:20260422T213524Z
LAST-MODIFIED:20260423T224524Z
UID:10000794-1819818000-1819828800@canoeplace.com
SUMMARY:Music in the Garden
DESCRIPTION:Music in the Garden Line-up\n\nThe full lineup will be announced soon.\n\n 
URL:https://canoeplace.com/event/music-in-the-garden/2027-09-01/
LOCATION:Garden Lawn and Terrace
CATEGORIES:Live Music
ATTACH;FMTTYPE=image/jpeg:https://canoeplace.com/wp-content/uploads/2026/04/20250722_CanoePlace_Day1_Sonya1_689-5-1-scaled.jpg
END:VEVENT
END:VCALENDAR