BEGIN:VCALENDAR
VERSION:2.0
PRODID:-//Canoe Place Inn - ECPv6.15.20//NONSGML v1.0//EN
CALSCALE:GREGORIAN
METHOD:PUBLISH
X-WR-CALNAME:Canoe Place Inn
X-ORIGINAL-URL:https://canoeplace.com
X-WR-CALDESC:Events for Canoe Place Inn
REFRESH-INTERVAL;VALUE=DURATION:PT1H
X-Robots-Tag:noindex
X-PUBLISHED-TTL:PT1H
BEGIN:VTIMEZONE
TZID:America/New_York
BEGIN:DAYLIGHT
TZOFFSETFROM:-0500
TZOFFSETTO:-0400
TZNAME:EDT
DTSTART:20250309T070000
END:DAYLIGHT
BEGIN:STANDARD
TZOFFSETFROM:-0400
TZOFFSETTO:-0500
TZNAME:EST
DTSTART:20251102T060000
END:STANDARD
BEGIN:DAYLIGHT
TZOFFSETFROM:-0500
TZOFFSETTO:-0400
TZNAME:EDT
DTSTART:20260308T070000
END:DAYLIGHT
BEGIN:STANDARD
TZOFFSETFROM:-0400
TZOFFSETTO:-0500
TZNAME:EST
DTSTART:20261101T060000
END:STANDARD
BEGIN:DAYLIGHT
TZOFFSETFROM:-0500
TZOFFSETTO:-0400
TZNAME:EDT
DTSTART:20270314T070000
END:DAYLIGHT
BEGIN:STANDARD
TZOFFSETFROM:-0400
TZOFFSETTO:-0500
TZNAME:EST
DTSTART:20271107T060000
END:STANDARD
BEGIN:DAYLIGHT
TZOFFSETFROM:-0500
TZOFFSETTO:-0400
TZNAME:EDT
DTSTART:20280312T070000
END:DAYLIGHT
BEGIN:STANDARD
TZOFFSETFROM:-0400
TZOFFSETTO:-0500
TZNAME:EST
DTSTART:20281105T060000
END:STANDARD
END:VTIMEZONE
BEGIN:VEVENT
DTSTART;TZID=America/New_York:20260624T170000
DTEND;TZID=America/New_York:20260624T200000
DTSTAMP:20260423T102150
CREATED:20260422T213524Z
LAST-MODIFIED:20260422T214339Z
UID:10000732-1782320400-1782331200@canoeplace.com
SUMMARY:Music in the Garden
DESCRIPTION:Music in the Garden Line-up\n\nThe full lineup will be announced soon.\n\n 
URL:https://canoeplace.com/event/music-in-the-garden/2026-06-24/
LOCATION:Garden Lawn and Terrace
CATEGORIES:Experiences,Live Music
ATTACH;FMTTYPE=image/jpeg:https://canoeplace.com/wp-content/uploads/2026/04/20250722_CanoePlace_Day1_Sonya1_689-5-1-scaled.jpg
END:VEVENT
BEGIN:VEVENT
DTSTART;TZID=America/New_York:20260701T170000
DTEND;TZID=America/New_York:20260701T200000
DTSTAMP:20260423T102150
CREATED:20260422T213524Z
LAST-MODIFIED:20260422T214339Z
UID:10000733-1782925200-1782936000@canoeplace.com
SUMMARY:Music in the Garden
DESCRIPTION:Music in the Garden Line-up\n\nThe full lineup will be announced soon.\n\n 
URL:https://canoeplace.com/event/music-in-the-garden/2026-07-01/
LOCATION:Garden Lawn and Terrace
CATEGORIES:Experiences,Live Music
ATTACH;FMTTYPE=image/jpeg:https://canoeplace.com/wp-content/uploads/2026/04/20250722_CanoePlace_Day1_Sonya1_689-5-1-scaled.jpg
END:VEVENT
BEGIN:VEVENT
DTSTART;TZID=America/New_York:20260708T170000
DTEND;TZID=America/New_York:20260708T200000
DTSTAMP:20260423T102150
CREATED:20260422T213524Z
LAST-MODIFIED:20260422T214339Z
UID:10000734-1783530000-1783540800@canoeplace.com
SUMMARY:Music in the Garden
DESCRIPTION:Music in the Garden Line-up\n\nThe full lineup will be announced soon.\n\n 
URL:https://canoeplace.com/event/music-in-the-garden/2026-07-08/
LOCATION:Garden Lawn and Terrace
CATEGORIES:Experiences,Live Music
ATTACH;FMTTYPE=image/jpeg:https://canoeplace.com/wp-content/uploads/2026/04/20250722_CanoePlace_Day1_Sonya1_689-5-1-scaled.jpg
END:VEVENT
BEGIN:VEVENT
DTSTART;TZID=America/New_York:20260715T170000
DTEND;TZID=America/New_York:20260715T200000
DTSTAMP:20260423T102150
CREATED:20260422T213524Z
LAST-MODIFIED:20260422T214339Z
UID:10000735-1784134800-1784145600@canoeplace.com
SUMMARY:Music in the Garden
DESCRIPTION:Music in the Garden Line-up\n\nThe full lineup will be announced soon.\n\n 
URL:https://canoeplace.com/event/music-in-the-garden/2026-07-15/
LOCATION:Garden Lawn and Terrace
CATEGORIES:Experiences,Live Music
ATTACH;FMTTYPE=image/jpeg:https://canoeplace.com/wp-content/uploads/2026/04/20250722_CanoePlace_Day1_Sonya1_689-5-1-scaled.jpg
END:VEVENT
BEGIN:VEVENT
DTSTART;TZID=America/New_York:20260722T170000
DTEND;TZID=America/New_York:20260722T200000
DTSTAMP:20260423T102150
CREATED:20260422T213524Z
LAST-MODIFIED:20260422T214339Z
UID:10000736-1784739600-1784750400@canoeplace.com
SUMMARY:Music in the Garden
DESCRIPTION:Music in the Garden Line-up\n\nThe full lineup will be announced soon.\n\n 
URL:https://canoeplace.com/event/music-in-the-garden/2026-07-22/
LOCATION:Garden Lawn and Terrace
CATEGORIES:Experiences,Live Music
ATTACH;FMTTYPE=image/jpeg:https://canoeplace.com/wp-content/uploads/2026/04/20250722_CanoePlace_Day1_Sonya1_689-5-1-scaled.jpg
END:VEVENT
BEGIN:VEVENT
DTSTART;TZID=America/New_York:20260729T170000
DTEND;TZID=America/New_York:20260729T200000
DTSTAMP:20260423T102150
CREATED:20260422T213524Z
LAST-MODIFIED:20260422T214339Z
UID:10000737-1785344400-1785355200@canoeplace.com
SUMMARY:Music in the Garden
DESCRIPTION:Music in the Garden Line-up\n\nThe full lineup will be announced soon.\n\n 
URL:https://canoeplace.com/event/music-in-the-garden/2026-07-29/
LOCATION:Garden Lawn and Terrace
CATEGORIES:Experiences,Live Music
ATTACH;FMTTYPE=image/jpeg:https://canoeplace.com/wp-content/uploads/2026/04/20250722_CanoePlace_Day1_Sonya1_689-5-1-scaled.jpg
END:VEVENT
BEGIN:VEVENT
DTSTART;TZID=America/New_York:20260805T170000
DTEND;TZID=America/New_York:20260805T200000
DTSTAMP:20260423T102150
CREATED:20260422T213524Z
LAST-MODIFIED:20260422T214339Z
UID:10000738-1785949200-1785960000@canoeplace.com
SUMMARY:Music in the Garden
DESCRIPTION:Music in the Garden Line-up\n\nThe full lineup will be announced soon.\n\n 
URL:https://canoeplace.com/event/music-in-the-garden/2026-08-05/
LOCATION:Garden Lawn and Terrace
CATEGORIES:Experiences,Live Music
ATTACH;FMTTYPE=image/jpeg:https://canoeplace.com/wp-content/uploads/2026/04/20250722_CanoePlace_Day1_Sonya1_689-5-1-scaled.jpg
END:VEVENT
BEGIN:VEVENT
DTSTART;TZID=America/New_York:20260812T170000
DTEND;TZID=America/New_York:20260812T200000
DTSTAMP:20260423T102150
CREATED:20260422T213524Z
LAST-MODIFIED:20260422T214339Z
UID:10000739-1786554000-1786564800@canoeplace.com
SUMMARY:Music in the Garden
DESCRIPTION:Music in the Garden Line-up\n\nThe full lineup will be announced soon.\n\n 
URL:https://canoeplace.com/event/music-in-the-garden/2026-08-12/
LOCATION:Garden Lawn and Terrace
CATEGORIES:Experiences,Live Music
ATTACH;FMTTYPE=image/jpeg:https://canoeplace.com/wp-content/uploads/2026/04/20250722_CanoePlace_Day1_Sonya1_689-5-1-scaled.jpg
END:VEVENT
BEGIN:VEVENT
DTSTART;TZID=America/New_York:20260819T170000
DTEND;TZID=America/New_York:20260819T200000
DTSTAMP:20260423T102150
CREATED:20260422T213524Z
LAST-MODIFIED:20260422T214339Z
UID:10000740-1787158800-1787169600@canoeplace.com
SUMMARY:Music in the Garden
DESCRIPTION:Music in the Garden Line-up\n\nThe full lineup will be announced soon.\n\n 
URL:https://canoeplace.com/event/music-in-the-garden/2026-08-19/
LOCATION:Garden Lawn and Terrace
CATEGORIES:Experiences,Live Music
ATTACH;FMTTYPE=image/jpeg:https://canoeplace.com/wp-content/uploads/2026/04/20250722_CanoePlace_Day1_Sonya1_689-5-1-scaled.jpg
END:VEVENT
BEGIN:VEVENT
DTSTART;TZID=America/New_York:20260826T170000
DTEND;TZID=America/New_York:20260826T200000
DTSTAMP:20260423T102150
CREATED:20260422T213524Z
LAST-MODIFIED:20260422T214339Z
UID:10000741-1787763600-1787774400@canoeplace.com
SUMMARY:Music in the Garden
DESCRIPTION:Music in the Garden Line-up\n\nThe full lineup will be announced soon.\n\n 
URL:https://canoeplace.com/event/music-in-the-garden/2026-08-26/
LOCATION:Garden Lawn and Terrace
CATEGORIES:Experiences,Live Music
ATTACH;FMTTYPE=image/jpeg:https://canoeplace.com/wp-content/uploads/2026/04/20250722_CanoePlace_Day1_Sonya1_689-5-1-scaled.jpg
END:VEVENT
BEGIN:VEVENT
DTSTART;TZID=America/New_York:20260902T170000
DTEND;TZID=America/New_York:20260902T200000
DTSTAMP:20260423T102150
CREATED:20260422T213524Z
LAST-MODIFIED:20260422T214339Z
UID:10000742-1788368400-1788379200@canoeplace.com
SUMMARY:Music in the Garden
DESCRIPTION:Music in the Garden Line-up\n\nThe full lineup will be announced soon.\n\n 
URL:https://canoeplace.com/event/music-in-the-garden/2026-09-02/
LOCATION:Garden Lawn and Terrace
CATEGORIES:Experiences,Live Music
ATTACH;FMTTYPE=image/jpeg:https://canoeplace.com/wp-content/uploads/2026/04/20250722_CanoePlace_Day1_Sonya1_689-5-1-scaled.jpg
END:VEVENT
BEGIN:VEVENT
DTSTART;TZID=America/New_York:20260909T170000
DTEND;TZID=America/New_York:20260909T200000
DTSTAMP:20260423T102150
CREATED:20260422T213524Z
LAST-MODIFIED:20260422T214339Z
UID:10000743-1788973200-1788984000@canoeplace.com
SUMMARY:Music in the Garden
DESCRIPTION:Music in the Garden Line-up\n\nThe full lineup will be announced soon.\n\n 
URL:https://canoeplace.com/event/music-in-the-garden/2026-09-09/
LOCATION:Garden Lawn and Terrace
CATEGORIES:Experiences,Live Music
ATTACH;FMTTYPE=image/jpeg:https://canoeplace.com/wp-content/uploads/2026/04/20250722_CanoePlace_Day1_Sonya1_689-5-1-scaled.jpg
END:VEVENT
BEGIN:VEVENT
DTSTART;TZID=America/New_York:20260916T170000
DTEND;TZID=America/New_York:20260916T200000
DTSTAMP:20260423T102150
CREATED:20260422T213524Z
LAST-MODIFIED:20260422T214339Z
UID:10000744-1789578000-1789588800@canoeplace.com
SUMMARY:Music in the Garden
DESCRIPTION:Music in the Garden Line-up\n\nThe full lineup will be announced soon.\n\n 
URL:https://canoeplace.com/event/music-in-the-garden/2026-09-16/
LOCATION:Garden Lawn and Terrace
CATEGORIES:Experiences,Live Music
ATTACH;FMTTYPE=image/jpeg:https://canoeplace.com/wp-content/uploads/2026/04/20250722_CanoePlace_Day1_Sonya1_689-5-1-scaled.jpg
END:VEVENT
BEGIN:VEVENT
DTSTART;TZID=America/New_York:20260923T170000
DTEND;TZID=America/New_York:20260923T200000
DTSTAMP:20260423T102150
CREATED:20260422T213524Z
LAST-MODIFIED:20260422T214339Z
UID:10000745-1790182800-1790193600@canoeplace.com
SUMMARY:Music in the Garden
DESCRIPTION:Music in the Garden Line-up\n\nThe full lineup will be announced soon.\n\n 
URL:https://canoeplace.com/event/music-in-the-garden/2026-09-23/
LOCATION:Garden Lawn and Terrace
CATEGORIES:Experiences,Live Music
ATTACH;FMTTYPE=image/jpeg:https://canoeplace.com/wp-content/uploads/2026/04/20250722_CanoePlace_Day1_Sonya1_689-5-1-scaled.jpg
END:VEVENT
BEGIN:VEVENT
DTSTART;TZID=America/New_York:20260930T170000
DTEND;TZID=America/New_York:20260930T200000
DTSTAMP:20260423T102150
CREATED:20260422T213524Z
LAST-MODIFIED:20260422T214339Z
UID:10000746-1790787600-1790798400@canoeplace.com
SUMMARY:Music in the Garden
DESCRIPTION:Music in the Garden Line-up\n\nThe full lineup will be announced soon.\n\n 
URL:https://canoeplace.com/event/music-in-the-garden/2026-09-30/
LOCATION:Garden Lawn and Terrace
CATEGORIES:Experiences,Live Music
ATTACH;FMTTYPE=image/jpeg:https://canoeplace.com/wp-content/uploads/2026/04/20250722_CanoePlace_Day1_Sonya1_689-5-1-scaled.jpg
END:VEVENT
BEGIN:VEVENT
DTSTART;TZID=America/New_York:20261007T170000
DTEND;TZID=America/New_York:20261007T200000
DTSTAMP:20260423T102150
CREATED:20260422T213524Z
LAST-MODIFIED:20260422T214339Z
UID:10000747-1791392400-1791403200@canoeplace.com
SUMMARY:Music in the Garden
DESCRIPTION:Music in the Garden Line-up\n\nThe full lineup will be announced soon.\n\n 
URL:https://canoeplace.com/event/music-in-the-garden/2026-10-07/
LOCATION:Garden Lawn and Terrace
CATEGORIES:Experiences,Live Music
ATTACH;FMTTYPE=image/jpeg:https://canoeplace.com/wp-content/uploads/2026/04/20250722_CanoePlace_Day1_Sonya1_689-5-1-scaled.jpg
END:VEVENT
BEGIN:VEVENT
DTSTART;TZID=America/New_York:20261014T170000
DTEND;TZID=America/New_York:20261014T200000
DTSTAMP:20260423T102150
CREATED:20260422T213524Z
LAST-MODIFIED:20260422T214339Z
UID:10000748-1791997200-1792008000@canoeplace.com
SUMMARY:Music in the Garden
DESCRIPTION:Music in the Garden Line-up\n\nThe full lineup will be announced soon.\n\n 
URL:https://canoeplace.com/event/music-in-the-garden/2026-10-14/
LOCATION:Garden Lawn and Terrace
CATEGORIES:Experiences,Live Music
ATTACH;FMTTYPE=image/jpeg:https://canoeplace.com/wp-content/uploads/2026/04/20250722_CanoePlace_Day1_Sonya1_689-5-1-scaled.jpg
END:VEVENT
BEGIN:VEVENT
DTSTART;TZID=America/New_York:20261021T170000
DTEND;TZID=America/New_York:20261021T200000
DTSTAMP:20260423T102150
CREATED:20260422T213524Z
LAST-MODIFIED:20260422T214339Z
UID:10000749-1792602000-1792612800@canoeplace.com
SUMMARY:Music in the Garden
DESCRIPTION:Music in the Garden Line-up\n\nThe full lineup will be announced soon.\n\n 
URL:https://canoeplace.com/event/music-in-the-garden/2026-10-21/
LOCATION:Garden Lawn and Terrace
CATEGORIES:Experiences,Live Music
ATTACH;FMTTYPE=image/jpeg:https://canoeplace.com/wp-content/uploads/2026/04/20250722_CanoePlace_Day1_Sonya1_689-5-1-scaled.jpg
END:VEVENT
BEGIN:VEVENT
DTSTART;TZID=America/New_York:20261028T170000
DTEND;TZID=America/New_York:20261028T200000
DTSTAMP:20260423T102150
CREATED:20260422T213524Z
LAST-MODIFIED:20260422T214339Z
UID:10000750-1793206800-1793217600@canoeplace.com
SUMMARY:Music in the Garden
DESCRIPTION:Music in the Garden Line-up\n\nThe full lineup will be announced soon.\n\n 
URL:https://canoeplace.com/event/music-in-the-garden/2026-10-28/
LOCATION:Garden Lawn and Terrace
CATEGORIES:Experiences,Live Music
ATTACH;FMTTYPE=image/jpeg:https://canoeplace.com/wp-content/uploads/2026/04/20250722_CanoePlace_Day1_Sonya1_689-5-1-scaled.jpg
END:VEVENT
BEGIN:VEVENT
DTSTART;TZID=America/New_York:20261104T170000
DTEND;TZID=America/New_York:20261104T200000
DTSTAMP:20260423T102150
CREATED:20260422T213524Z
LAST-MODIFIED:20260422T214339Z
UID:10000751-1793811600-1793822400@canoeplace.com
SUMMARY:Music in the Garden
DESCRIPTION:Music in the Garden Line-up\n\nThe full lineup will be announced soon.\n\n 
URL:https://canoeplace.com/event/music-in-the-garden/2026-11-04/
LOCATION:Garden Lawn and Terrace
CATEGORIES:Experiences,Live Music
ATTACH;FMTTYPE=image/jpeg:https://canoeplace.com/wp-content/uploads/2026/04/20250722_CanoePlace_Day1_Sonya1_689-5-1-scaled.jpg
END:VEVENT
BEGIN:VEVENT
DTSTART;TZID=America/New_York:20261111T170000
DTEND;TZID=America/New_York:20261111T200000
DTSTAMP:20260423T102150
CREATED:20260422T213524Z
LAST-MODIFIED:20260422T214339Z
UID:10000752-1794416400-1794427200@canoeplace.com
SUMMARY:Music in the Garden
DESCRIPTION:Music in the Garden Line-up\n\nThe full lineup will be announced soon.\n\n 
URL:https://canoeplace.com/event/music-in-the-garden/2026-11-11/
LOCATION:Garden Lawn and Terrace
CATEGORIES:Experiences,Live Music
ATTACH;FMTTYPE=image/jpeg:https://canoeplace.com/wp-content/uploads/2026/04/20250722_CanoePlace_Day1_Sonya1_689-5-1-scaled.jpg
END:VEVENT
BEGIN:VEVENT
DTSTART;TZID=America/New_York:20261118T170000
DTEND;TZID=America/New_York:20261118T200000
DTSTAMP:20260423T102150
CREATED:20260422T213524Z
LAST-MODIFIED:20260422T214339Z
UID:10000753-1795021200-1795032000@canoeplace.com
SUMMARY:Music in the Garden
DESCRIPTION:Music in the Garden Line-up\n\nThe full lineup will be announced soon.\n\n 
URL:https://canoeplace.com/event/music-in-the-garden/2026-11-18/
LOCATION:Garden Lawn and Terrace
CATEGORIES:Experiences,Live Music
ATTACH;FMTTYPE=image/jpeg:https://canoeplace.com/wp-content/uploads/2026/04/20250722_CanoePlace_Day1_Sonya1_689-5-1-scaled.jpg
END:VEVENT
BEGIN:VEVENT
DTSTART;TZID=America/New_York:20261125T170000
DTEND;TZID=America/New_York:20261125T200000
DTSTAMP:20260423T102150
CREATED:20260422T213524Z
LAST-MODIFIED:20260422T214339Z
UID:10000754-1795626000-1795636800@canoeplace.com
SUMMARY:Music in the Garden
DESCRIPTION:Music in the Garden Line-up\n\nThe full lineup will be announced soon.\n\n 
URL:https://canoeplace.com/event/music-in-the-garden/2026-11-25/
LOCATION:Garden Lawn and Terrace
CATEGORIES:Experiences,Live Music
ATTACH;FMTTYPE=image/jpeg:https://canoeplace.com/wp-content/uploads/2026/04/20250722_CanoePlace_Day1_Sonya1_689-5-1-scaled.jpg
END:VEVENT
BEGIN:VEVENT
DTSTART;TZID=America/New_York:20261202T170000
DTEND;TZID=America/New_York:20261202T200000
DTSTAMP:20260423T102150
CREATED:20260422T213524Z
LAST-MODIFIED:20260422T214339Z
UID:10000755-1796230800-1796241600@canoeplace.com
SUMMARY:Music in the Garden
DESCRIPTION:Music in the Garden Line-up\n\nThe full lineup will be announced soon.\n\n 
URL:https://canoeplace.com/event/music-in-the-garden/2026-12-02/
LOCATION:Garden Lawn and Terrace
CATEGORIES:Experiences,Live Music
ATTACH;FMTTYPE=image/jpeg:https://canoeplace.com/wp-content/uploads/2026/04/20250722_CanoePlace_Day1_Sonya1_689-5-1-scaled.jpg
END:VEVENT
BEGIN:VEVENT
DTSTART;TZID=America/New_York:20261209T170000
DTEND;TZID=America/New_York:20261209T200000
DTSTAMP:20260423T102150
CREATED:20260422T213524Z
LAST-MODIFIED:20260422T214339Z
UID:10000756-1796835600-1796846400@canoeplace.com
SUMMARY:Music in the Garden
DESCRIPTION:Music in the Garden Line-up\n\nThe full lineup will be announced soon.\n\n 
URL:https://canoeplace.com/event/music-in-the-garden/2026-12-09/
LOCATION:Garden Lawn and Terrace
CATEGORIES:Experiences,Live Music
ATTACH;FMTTYPE=image/jpeg:https://canoeplace.com/wp-content/uploads/2026/04/20250722_CanoePlace_Day1_Sonya1_689-5-1-scaled.jpg
END:VEVENT
BEGIN:VEVENT
DTSTART;TZID=America/New_York:20261216T170000
DTEND;TZID=America/New_York:20261216T200000
DTSTAMP:20260423T102150
CREATED:20260422T213524Z
LAST-MODIFIED:20260422T214339Z
UID:10000757-1797440400-1797451200@canoeplace.com
SUMMARY:Music in the Garden
DESCRIPTION:Music in the Garden Line-up\n\nThe full lineup will be announced soon.\n\n 
URL:https://canoeplace.com/event/music-in-the-garden/2026-12-16/
LOCATION:Garden Lawn and Terrace
CATEGORIES:Experiences,Live Music
ATTACH;FMTTYPE=image/jpeg:https://canoeplace.com/wp-content/uploads/2026/04/20250722_CanoePlace_Day1_Sonya1_689-5-1-scaled.jpg
END:VEVENT
BEGIN:VEVENT
DTSTART;TZID=America/New_York:20261223T170000
DTEND;TZID=America/New_York:20261223T200000
DTSTAMP:20260423T102150
CREATED:20260422T213524Z
LAST-MODIFIED:20260422T214339Z
UID:10000758-1798045200-1798056000@canoeplace.com
SUMMARY:Music in the Garden
DESCRIPTION:Music in the Garden Line-up\n\nThe full lineup will be announced soon.\n\n 
URL:https://canoeplace.com/event/music-in-the-garden/2026-12-23/
LOCATION:Garden Lawn and Terrace
CATEGORIES:Experiences,Live Music
ATTACH;FMTTYPE=image/jpeg:https://canoeplace.com/wp-content/uploads/2026/04/20250722_CanoePlace_Day1_Sonya1_689-5-1-scaled.jpg
END:VEVENT
BEGIN:VEVENT
DTSTART;TZID=America/New_York:20261230T170000
DTEND;TZID=America/New_York:20261230T200000
DTSTAMP:20260423T102150
CREATED:20260422T213524Z
LAST-MODIFIED:20260422T214339Z
UID:10000759-1798650000-1798660800@canoeplace.com
SUMMARY:Music in the Garden
DESCRIPTION:Music in the Garden Line-up\n\nThe full lineup will be announced soon.\n\n 
URL:https://canoeplace.com/event/music-in-the-garden/2026-12-30/
LOCATION:Garden Lawn and Terrace
CATEGORIES:Experiences,Live Music
ATTACH;FMTTYPE=image/jpeg:https://canoeplace.com/wp-content/uploads/2026/04/20250722_CanoePlace_Day1_Sonya1_689-5-1-scaled.jpg
END:VEVENT
BEGIN:VEVENT
DTSTART;TZID=America/New_York:20270106T170000
DTEND;TZID=America/New_York:20270106T200000
DTSTAMP:20260423T102150
CREATED:20260422T213524Z
LAST-MODIFIED:20260422T214339Z
UID:10000760-1799254800-1799265600@canoeplace.com
SUMMARY:Music in the Garden
DESCRIPTION:Music in the Garden Line-up\n\nThe full lineup will be announced soon.\n\n 
URL:https://canoeplace.com/event/music-in-the-garden/2027-01-06/
LOCATION:Garden Lawn and Terrace
CATEGORIES:Experiences,Live Music
ATTACH;FMTTYPE=image/jpeg:https://canoeplace.com/wp-content/uploads/2026/04/20250722_CanoePlace_Day1_Sonya1_689-5-1-scaled.jpg
END:VEVENT
BEGIN:VEVENT
DTSTART;TZID=America/New_York:20270113T170000
DTEND;TZID=America/New_York:20270113T200000
DTSTAMP:20260423T102150
CREATED:20260422T213524Z
LAST-MODIFIED:20260422T214339Z
UID:10000761-1799859600-1799870400@canoeplace.com
SUMMARY:Music in the Garden
DESCRIPTION:Music in the Garden Line-up\n\nThe full lineup will be announced soon.\n\n 
URL:https://canoeplace.com/event/music-in-the-garden/2027-01-13/
LOCATION:Garden Lawn and Terrace
CATEGORIES:Experiences,Live Music
ATTACH;FMTTYPE=image/jpeg:https://canoeplace.com/wp-content/uploads/2026/04/20250722_CanoePlace_Day1_Sonya1_689-5-1-scaled.jpg
END:VEVENT
END:VCALENDAR