BEGIN:VCALENDAR
VERSION:2.0
PRODID:-//Canoe Place Inn - ECPv6.15.20//NONSGML v1.0//EN
CALSCALE:GREGORIAN
METHOD:PUBLISH
X-ORIGINAL-URL:https://canoeplace.com
X-WR-CALDESC:Events for Canoe Place Inn
REFRESH-INTERVAL;VALUE=DURATION:PT1H
X-Robots-Tag:noindex
X-PUBLISHED-TTL:PT1H
BEGIN:VTIMEZONE
TZID:America/New_York
BEGIN:DAYLIGHT
TZOFFSETFROM:-0500
TZOFFSETTO:-0400
TZNAME:EDT
DTSTART:20250309T070000
END:DAYLIGHT
BEGIN:STANDARD
TZOFFSETFROM:-0400
TZOFFSETTO:-0500
TZNAME:EST
DTSTART:20251102T060000
END:STANDARD
BEGIN:DAYLIGHT
TZOFFSETFROM:-0500
TZOFFSETTO:-0400
TZNAME:EDT
DTSTART:20260308T070000
END:DAYLIGHT
BEGIN:STANDARD
TZOFFSETFROM:-0400
TZOFFSETTO:-0500
TZNAME:EST
DTSTART:20261101T060000
END:STANDARD
BEGIN:DAYLIGHT
TZOFFSETFROM:-0500
TZOFFSETTO:-0400
TZNAME:EDT
DTSTART:20270314T070000
END:DAYLIGHT
BEGIN:STANDARD
TZOFFSETFROM:-0400
TZOFFSETTO:-0500
TZNAME:EST
DTSTART:20271107T060000
END:STANDARD
BEGIN:DAYLIGHT
TZOFFSETFROM:-0500
TZOFFSETTO:-0400
TZNAME:EDT
DTSTART:20280312T070000
END:DAYLIGHT
BEGIN:STANDARD
TZOFFSETFROM:-0400
TZOFFSETTO:-0500
TZNAME:EST
DTSTART:20281105T060000
END:STANDARD
END:VTIMEZONE
BEGIN:VEVENT
DTSTART;TZID=America/New_York:20261202T170000
DTEND;TZID=America/New_York:20261202T200000
DTSTAMP:20260424T232843
CREATED:20260422T213524Z
LAST-MODIFIED:20260423T224524Z
UID:10000755-1796230800-1796241600@canoeplace.com
SUMMARY:Music in the Garden
DESCRIPTION:Music in the Garden Line-up\n\nThe full lineup will be announced soon.\n\n 
URL:https://canoeplace.com/event/music-in-the-garden/2026-12-02/
LOCATION:Garden Lawn and Terrace
CATEGORIES:Live Music
ATTACH;FMTTYPE=image/jpeg:https://canoeplace.com/wp-content/uploads/2026/04/20250722_CanoePlace_Day1_Sonya1_689-5-1-scaled.jpg
END:VEVENT
BEGIN:VEVENT
DTSTART;TZID=America/New_York:20261209T170000
DTEND;TZID=America/New_York:20261209T200000
DTSTAMP:20260424T232843
CREATED:20260422T213524Z
LAST-MODIFIED:20260423T224524Z
UID:10000756-1796835600-1796846400@canoeplace.com
SUMMARY:Music in the Garden
DESCRIPTION:Music in the Garden Line-up\n\nThe full lineup will be announced soon.\n\n 
URL:https://canoeplace.com/event/music-in-the-garden/2026-12-09/
LOCATION:Garden Lawn and Terrace
CATEGORIES:Live Music
ATTACH;FMTTYPE=image/jpeg:https://canoeplace.com/wp-content/uploads/2026/04/20250722_CanoePlace_Day1_Sonya1_689-5-1-scaled.jpg
END:VEVENT
BEGIN:VEVENT
DTSTART;TZID=America/New_York:20261216T170000
DTEND;TZID=America/New_York:20261216T200000
DTSTAMP:20260424T232843
CREATED:20260422T213524Z
LAST-MODIFIED:20260423T224524Z
UID:10000757-1797440400-1797451200@canoeplace.com
SUMMARY:Music in the Garden
DESCRIPTION:Music in the Garden Line-up\n\nThe full lineup will be announced soon.\n\n 
URL:https://canoeplace.com/event/music-in-the-garden/2026-12-16/
LOCATION:Garden Lawn and Terrace
CATEGORIES:Live Music
ATTACH;FMTTYPE=image/jpeg:https://canoeplace.com/wp-content/uploads/2026/04/20250722_CanoePlace_Day1_Sonya1_689-5-1-scaled.jpg
END:VEVENT
BEGIN:VEVENT
DTSTART;TZID=America/New_York:20261223T170000
DTEND;TZID=America/New_York:20261223T200000
DTSTAMP:20260424T232843
CREATED:20260422T213524Z
LAST-MODIFIED:20260423T224524Z
UID:10000758-1798045200-1798056000@canoeplace.com
SUMMARY:Music in the Garden
DESCRIPTION:Music in the Garden Line-up\n\nThe full lineup will be announced soon.\n\n 
URL:https://canoeplace.com/event/music-in-the-garden/2026-12-23/
LOCATION:Garden Lawn and Terrace
CATEGORIES:Live Music
ATTACH;FMTTYPE=image/jpeg:https://canoeplace.com/wp-content/uploads/2026/04/20250722_CanoePlace_Day1_Sonya1_689-5-1-scaled.jpg
END:VEVENT
BEGIN:VEVENT
DTSTART;TZID=America/New_York:20261230T170000
DTEND;TZID=America/New_York:20261230T200000
DTSTAMP:20260424T232843
CREATED:20260422T213524Z
LAST-MODIFIED:20260423T224524Z
UID:10000759-1798650000-1798660800@canoeplace.com
SUMMARY:Music in the Garden
DESCRIPTION:Music in the Garden Line-up\n\nThe full lineup will be announced soon.\n\n 
URL:https://canoeplace.com/event/music-in-the-garden/2026-12-30/
LOCATION:Garden Lawn and Terrace
CATEGORIES:Live Music
ATTACH;FMTTYPE=image/jpeg:https://canoeplace.com/wp-content/uploads/2026/04/20250722_CanoePlace_Day1_Sonya1_689-5-1-scaled.jpg
END:VEVENT
BEGIN:VEVENT
DTSTART;TZID=America/New_York:20270106T170000
DTEND;TZID=America/New_York:20270106T200000
DTSTAMP:20260424T232843
CREATED:20260422T213524Z
LAST-MODIFIED:20260423T224524Z
UID:10000760-1799254800-1799265600@canoeplace.com
SUMMARY:Music in the Garden
DESCRIPTION:Music in the Garden Line-up\n\nThe full lineup will be announced soon.\n\n 
URL:https://canoeplace.com/event/music-in-the-garden/2027-01-06/
LOCATION:Garden Lawn and Terrace
CATEGORIES:Live Music
ATTACH;FMTTYPE=image/jpeg:https://canoeplace.com/wp-content/uploads/2026/04/20250722_CanoePlace_Day1_Sonya1_689-5-1-scaled.jpg
END:VEVENT
BEGIN:VEVENT
DTSTART;TZID=America/New_York:20270113T170000
DTEND;TZID=America/New_York:20270113T200000
DTSTAMP:20260424T232843
CREATED:20260422T213524Z
LAST-MODIFIED:20260423T224524Z
UID:10000761-1799859600-1799870400@canoeplace.com
SUMMARY:Music in the Garden
DESCRIPTION:Music in the Garden Line-up\n\nThe full lineup will be announced soon.\n\n 
URL:https://canoeplace.com/event/music-in-the-garden/2027-01-13/
LOCATION:Garden Lawn and Terrace
CATEGORIES:Live Music
ATTACH;FMTTYPE=image/jpeg:https://canoeplace.com/wp-content/uploads/2026/04/20250722_CanoePlace_Day1_Sonya1_689-5-1-scaled.jpg
END:VEVENT
BEGIN:VEVENT
DTSTART;TZID=America/New_York:20270120T170000
DTEND;TZID=America/New_York:20270120T200000
DTSTAMP:20260424T232843
CREATED:20260422T213524Z
LAST-MODIFIED:20260423T224524Z
UID:10000762-1800464400-1800475200@canoeplace.com
SUMMARY:Music in the Garden
DESCRIPTION:Music in the Garden Line-up\n\nThe full lineup will be announced soon.\n\n 
URL:https://canoeplace.com/event/music-in-the-garden/2027-01-20/
LOCATION:Garden Lawn and Terrace
CATEGORIES:Live Music
ATTACH;FMTTYPE=image/jpeg:https://canoeplace.com/wp-content/uploads/2026/04/20250722_CanoePlace_Day1_Sonya1_689-5-1-scaled.jpg
END:VEVENT
BEGIN:VEVENT
DTSTART;TZID=America/New_York:20270127T170000
DTEND;TZID=America/New_York:20270127T200000
DTSTAMP:20260424T232843
CREATED:20260422T213524Z
LAST-MODIFIED:20260423T224524Z
UID:10000763-1801069200-1801080000@canoeplace.com
SUMMARY:Music in the Garden
DESCRIPTION:Music in the Garden Line-up\n\nThe full lineup will be announced soon.\n\n 
URL:https://canoeplace.com/event/music-in-the-garden/2027-01-27/
LOCATION:Garden Lawn and Terrace
CATEGORIES:Live Music
ATTACH;FMTTYPE=image/jpeg:https://canoeplace.com/wp-content/uploads/2026/04/20250722_CanoePlace_Day1_Sonya1_689-5-1-scaled.jpg
END:VEVENT
BEGIN:VEVENT
DTSTART;TZID=America/New_York:20270203T170000
DTEND;TZID=America/New_York:20270203T200000
DTSTAMP:20260424T232843
CREATED:20260422T213524Z
LAST-MODIFIED:20260423T224524Z
UID:10000764-1801674000-1801684800@canoeplace.com
SUMMARY:Music in the Garden
DESCRIPTION:Music in the Garden Line-up\n\nThe full lineup will be announced soon.\n\n 
URL:https://canoeplace.com/event/music-in-the-garden/2027-02-03/
LOCATION:Garden Lawn and Terrace
CATEGORIES:Live Music
ATTACH;FMTTYPE=image/jpeg:https://canoeplace.com/wp-content/uploads/2026/04/20250722_CanoePlace_Day1_Sonya1_689-5-1-scaled.jpg
END:VEVENT
BEGIN:VEVENT
DTSTART;TZID=America/New_York:20270210T170000
DTEND;TZID=America/New_York:20270210T200000
DTSTAMP:20260424T232843
CREATED:20260422T213524Z
LAST-MODIFIED:20260423T224524Z
UID:10000765-1802278800-1802289600@canoeplace.com
SUMMARY:Music in the Garden
DESCRIPTION:Music in the Garden Line-up\n\nThe full lineup will be announced soon.\n\n 
URL:https://canoeplace.com/event/music-in-the-garden/2027-02-10/
LOCATION:Garden Lawn and Terrace
CATEGORIES:Live Music
ATTACH;FMTTYPE=image/jpeg:https://canoeplace.com/wp-content/uploads/2026/04/20250722_CanoePlace_Day1_Sonya1_689-5-1-scaled.jpg
END:VEVENT
BEGIN:VEVENT
DTSTART;TZID=America/New_York:20270217T170000
DTEND;TZID=America/New_York:20270217T200000
DTSTAMP:20260424T232843
CREATED:20260422T213524Z
LAST-MODIFIED:20260423T224524Z
UID:10000766-1802883600-1802894400@canoeplace.com
SUMMARY:Music in the Garden
DESCRIPTION:Music in the Garden Line-up\n\nThe full lineup will be announced soon.\n\n 
URL:https://canoeplace.com/event/music-in-the-garden/2027-02-17/
LOCATION:Garden Lawn and Terrace
CATEGORIES:Live Music
ATTACH;FMTTYPE=image/jpeg:https://canoeplace.com/wp-content/uploads/2026/04/20250722_CanoePlace_Day1_Sonya1_689-5-1-scaled.jpg
END:VEVENT
BEGIN:VEVENT
DTSTART;TZID=America/New_York:20270224T170000
DTEND;TZID=America/New_York:20270224T200000
DTSTAMP:20260424T232843
CREATED:20260422T213524Z
LAST-MODIFIED:20260423T224524Z
UID:10000767-1803488400-1803499200@canoeplace.com
SUMMARY:Music in the Garden
DESCRIPTION:Music in the Garden Line-up\n\nThe full lineup will be announced soon.\n\n 
URL:https://canoeplace.com/event/music-in-the-garden/2027-02-24/
LOCATION:Garden Lawn and Terrace
CATEGORIES:Live Music
ATTACH;FMTTYPE=image/jpeg:https://canoeplace.com/wp-content/uploads/2026/04/20250722_CanoePlace_Day1_Sonya1_689-5-1-scaled.jpg
END:VEVENT
BEGIN:VEVENT
DTSTART;TZID=America/New_York:20270303T170000
DTEND;TZID=America/New_York:20270303T200000
DTSTAMP:20260424T232843
CREATED:20260422T213524Z
LAST-MODIFIED:20260423T224524Z
UID:10000768-1804093200-1804104000@canoeplace.com
SUMMARY:Music in the Garden
DESCRIPTION:Music in the Garden Line-up\n\nThe full lineup will be announced soon.\n\n 
URL:https://canoeplace.com/event/music-in-the-garden/2027-03-03/
LOCATION:Garden Lawn and Terrace
CATEGORIES:Live Music
ATTACH;FMTTYPE=image/jpeg:https://canoeplace.com/wp-content/uploads/2026/04/20250722_CanoePlace_Day1_Sonya1_689-5-1-scaled.jpg
END:VEVENT
BEGIN:VEVENT
DTSTART;TZID=America/New_York:20270310T170000
DTEND;TZID=America/New_York:20270310T200000
DTSTAMP:20260424T232843
CREATED:20260422T213524Z
LAST-MODIFIED:20260423T224524Z
UID:10000769-1804698000-1804708800@canoeplace.com
SUMMARY:Music in the Garden
DESCRIPTION:Music in the Garden Line-up\n\nThe full lineup will be announced soon.\n\n 
URL:https://canoeplace.com/event/music-in-the-garden/2027-03-10/
LOCATION:Garden Lawn and Terrace
CATEGORIES:Live Music
ATTACH;FMTTYPE=image/jpeg:https://canoeplace.com/wp-content/uploads/2026/04/20250722_CanoePlace_Day1_Sonya1_689-5-1-scaled.jpg
END:VEVENT
BEGIN:VEVENT
DTSTART;TZID=America/New_York:20270317T170000
DTEND;TZID=America/New_York:20270317T200000
DTSTAMP:20260424T232843
CREATED:20260422T213524Z
LAST-MODIFIED:20260423T224524Z
UID:10000770-1805302800-1805313600@canoeplace.com
SUMMARY:Music in the Garden
DESCRIPTION:Music in the Garden Line-up\n\nThe full lineup will be announced soon.\n\n 
URL:https://canoeplace.com/event/music-in-the-garden/2027-03-17/
LOCATION:Garden Lawn and Terrace
CATEGORIES:Live Music
ATTACH;FMTTYPE=image/jpeg:https://canoeplace.com/wp-content/uploads/2026/04/20250722_CanoePlace_Day1_Sonya1_689-5-1-scaled.jpg
END:VEVENT
BEGIN:VEVENT
DTSTART;TZID=America/New_York:20270324T170000
DTEND;TZID=America/New_York:20270324T200000
DTSTAMP:20260424T232843
CREATED:20260422T213524Z
LAST-MODIFIED:20260423T224524Z
UID:10000771-1805907600-1805918400@canoeplace.com
SUMMARY:Music in the Garden
DESCRIPTION:Music in the Garden Line-up\n\nThe full lineup will be announced soon.\n\n 
URL:https://canoeplace.com/event/music-in-the-garden/2027-03-24/
LOCATION:Garden Lawn and Terrace
CATEGORIES:Live Music
ATTACH;FMTTYPE=image/jpeg:https://canoeplace.com/wp-content/uploads/2026/04/20250722_CanoePlace_Day1_Sonya1_689-5-1-scaled.jpg
END:VEVENT
BEGIN:VEVENT
DTSTART;TZID=America/New_York:20270331T170000
DTEND;TZID=America/New_York:20270331T200000
DTSTAMP:20260424T232843
CREATED:20260422T213524Z
LAST-MODIFIED:20260423T224524Z
UID:10000772-1806512400-1806523200@canoeplace.com
SUMMARY:Music in the Garden
DESCRIPTION:Music in the Garden Line-up\n\nThe full lineup will be announced soon.\n\n 
URL:https://canoeplace.com/event/music-in-the-garden/2027-03-31/
LOCATION:Garden Lawn and Terrace
CATEGORIES:Live Music
ATTACH;FMTTYPE=image/jpeg:https://canoeplace.com/wp-content/uploads/2026/04/20250722_CanoePlace_Day1_Sonya1_689-5-1-scaled.jpg
END:VEVENT
BEGIN:VEVENT
DTSTART;TZID=America/New_York:20270407T170000
DTEND;TZID=America/New_York:20270407T200000
DTSTAMP:20260424T232843
CREATED:20260422T213524Z
LAST-MODIFIED:20260423T224524Z
UID:10000773-1807117200-1807128000@canoeplace.com
SUMMARY:Music in the Garden
DESCRIPTION:Music in the Garden Line-up\n\nThe full lineup will be announced soon.\n\n 
URL:https://canoeplace.com/event/music-in-the-garden/2027-04-07/
LOCATION:Garden Lawn and Terrace
CATEGORIES:Live Music
ATTACH;FMTTYPE=image/jpeg:https://canoeplace.com/wp-content/uploads/2026/04/20250722_CanoePlace_Day1_Sonya1_689-5-1-scaled.jpg
END:VEVENT
BEGIN:VEVENT
DTSTART;TZID=America/New_York:20270414T170000
DTEND;TZID=America/New_York:20270414T200000
DTSTAMP:20260424T232843
CREATED:20260422T213524Z
LAST-MODIFIED:20260423T224524Z
UID:10000774-1807722000-1807732800@canoeplace.com
SUMMARY:Music in the Garden
DESCRIPTION:Music in the Garden Line-up\n\nThe full lineup will be announced soon.\n\n 
URL:https://canoeplace.com/event/music-in-the-garden/2027-04-14/
LOCATION:Garden Lawn and Terrace
CATEGORIES:Live Music
ATTACH;FMTTYPE=image/jpeg:https://canoeplace.com/wp-content/uploads/2026/04/20250722_CanoePlace_Day1_Sonya1_689-5-1-scaled.jpg
END:VEVENT
BEGIN:VEVENT
DTSTART;TZID=America/New_York:20270421T170000
DTEND;TZID=America/New_York:20270421T200000
DTSTAMP:20260424T232843
CREATED:20260422T213524Z
LAST-MODIFIED:20260423T224524Z
UID:10000775-1808326800-1808337600@canoeplace.com
SUMMARY:Music in the Garden
DESCRIPTION:Music in the Garden Line-up\n\nThe full lineup will be announced soon.\n\n 
URL:https://canoeplace.com/event/music-in-the-garden/2027-04-21/
LOCATION:Garden Lawn and Terrace
CATEGORIES:Live Music
ATTACH;FMTTYPE=image/jpeg:https://canoeplace.com/wp-content/uploads/2026/04/20250722_CanoePlace_Day1_Sonya1_689-5-1-scaled.jpg
END:VEVENT
BEGIN:VEVENT
DTSTART;TZID=America/New_York:20270428T170000
DTEND;TZID=America/New_York:20270428T200000
DTSTAMP:20260424T232843
CREATED:20260422T213524Z
LAST-MODIFIED:20260423T224524Z
UID:10000776-1808931600-1808942400@canoeplace.com
SUMMARY:Music in the Garden
DESCRIPTION:Music in the Garden Line-up\n\nThe full lineup will be announced soon.\n\n 
URL:https://canoeplace.com/event/music-in-the-garden/2027-04-28/
LOCATION:Garden Lawn and Terrace
CATEGORIES:Live Music
ATTACH;FMTTYPE=image/jpeg:https://canoeplace.com/wp-content/uploads/2026/04/20250722_CanoePlace_Day1_Sonya1_689-5-1-scaled.jpg
END:VEVENT
BEGIN:VEVENT
DTSTART;TZID=America/New_York:20270505T170000
DTEND;TZID=America/New_York:20270505T200000
DTSTAMP:20260424T232843
CREATED:20260422T213524Z
LAST-MODIFIED:20260423T224524Z
UID:10000777-1809536400-1809547200@canoeplace.com
SUMMARY:Music in the Garden
DESCRIPTION:Music in the Garden Line-up\n\nThe full lineup will be announced soon.\n\n 
URL:https://canoeplace.com/event/music-in-the-garden/2027-05-05/
LOCATION:Garden Lawn and Terrace
CATEGORIES:Live Music
ATTACH;FMTTYPE=image/jpeg:https://canoeplace.com/wp-content/uploads/2026/04/20250722_CanoePlace_Day1_Sonya1_689-5-1-scaled.jpg
END:VEVENT
BEGIN:VEVENT
DTSTART;TZID=America/New_York:20270512T170000
DTEND;TZID=America/New_York:20270512T200000
DTSTAMP:20260424T232843
CREATED:20260422T213524Z
LAST-MODIFIED:20260423T224524Z
UID:10000778-1810141200-1810152000@canoeplace.com
SUMMARY:Music in the Garden
DESCRIPTION:Music in the Garden Line-up\n\nThe full lineup will be announced soon.\n\n 
URL:https://canoeplace.com/event/music-in-the-garden/2027-05-12/
LOCATION:Garden Lawn and Terrace
CATEGORIES:Live Music
ATTACH;FMTTYPE=image/jpeg:https://canoeplace.com/wp-content/uploads/2026/04/20250722_CanoePlace_Day1_Sonya1_689-5-1-scaled.jpg
END:VEVENT
BEGIN:VEVENT
DTSTART;TZID=America/New_York:20270519T170000
DTEND;TZID=America/New_York:20270519T200000
DTSTAMP:20260424T232843
CREATED:20260422T213524Z
LAST-MODIFIED:20260423T224524Z
UID:10000779-1810746000-1810756800@canoeplace.com
SUMMARY:Music in the Garden
DESCRIPTION:Music in the Garden Line-up\n\nThe full lineup will be announced soon.\n\n 
URL:https://canoeplace.com/event/music-in-the-garden/2027-05-19/
LOCATION:Garden Lawn and Terrace
CATEGORIES:Live Music
ATTACH;FMTTYPE=image/jpeg:https://canoeplace.com/wp-content/uploads/2026/04/20250722_CanoePlace_Day1_Sonya1_689-5-1-scaled.jpg
END:VEVENT
BEGIN:VEVENT
DTSTART;TZID=America/New_York:20270526T170000
DTEND;TZID=America/New_York:20270526T200000
DTSTAMP:20260424T232843
CREATED:20260422T213524Z
LAST-MODIFIED:20260423T224524Z
UID:10000780-1811350800-1811361600@canoeplace.com
SUMMARY:Music in the Garden
DESCRIPTION:Music in the Garden Line-up\n\nThe full lineup will be announced soon.\n\n 
URL:https://canoeplace.com/event/music-in-the-garden/2027-05-26/
LOCATION:Garden Lawn and Terrace
CATEGORIES:Live Music
ATTACH;FMTTYPE=image/jpeg:https://canoeplace.com/wp-content/uploads/2026/04/20250722_CanoePlace_Day1_Sonya1_689-5-1-scaled.jpg
END:VEVENT
BEGIN:VEVENT
DTSTART;TZID=America/New_York:20270602T170000
DTEND;TZID=America/New_York:20270602T200000
DTSTAMP:20260424T232843
CREATED:20260422T213524Z
LAST-MODIFIED:20260423T224524Z
UID:10000781-1811955600-1811966400@canoeplace.com
SUMMARY:Music in the Garden
DESCRIPTION:Music in the Garden Line-up\n\nThe full lineup will be announced soon.\n\n 
URL:https://canoeplace.com/event/music-in-the-garden/2027-06-02/
LOCATION:Garden Lawn and Terrace
CATEGORIES:Live Music
ATTACH;FMTTYPE=image/jpeg:https://canoeplace.com/wp-content/uploads/2026/04/20250722_CanoePlace_Day1_Sonya1_689-5-1-scaled.jpg
END:VEVENT
BEGIN:VEVENT
DTSTART;TZID=America/New_York:20270609T170000
DTEND;TZID=America/New_York:20270609T200000
DTSTAMP:20260424T232843
CREATED:20260422T213524Z
LAST-MODIFIED:20260423T224524Z
UID:10000782-1812560400-1812571200@canoeplace.com
SUMMARY:Music in the Garden
DESCRIPTION:Music in the Garden Line-up\n\nThe full lineup will be announced soon.\n\n 
URL:https://canoeplace.com/event/music-in-the-garden/2027-06-09/
LOCATION:Garden Lawn and Terrace
CATEGORIES:Live Music
ATTACH;FMTTYPE=image/jpeg:https://canoeplace.com/wp-content/uploads/2026/04/20250722_CanoePlace_Day1_Sonya1_689-5-1-scaled.jpg
END:VEVENT
BEGIN:VEVENT
DTSTART;TZID=America/New_York:20270616T170000
DTEND;TZID=America/New_York:20270616T200000
DTSTAMP:20260424T232843
CREATED:20260422T213524Z
LAST-MODIFIED:20260423T224524Z
UID:10000783-1813165200-1813176000@canoeplace.com
SUMMARY:Music in the Garden
DESCRIPTION:Music in the Garden Line-up\n\nThe full lineup will be announced soon.\n\n 
URL:https://canoeplace.com/event/music-in-the-garden/2027-06-16/
LOCATION:Garden Lawn and Terrace
CATEGORIES:Live Music
ATTACH;FMTTYPE=image/jpeg:https://canoeplace.com/wp-content/uploads/2026/04/20250722_CanoePlace_Day1_Sonya1_689-5-1-scaled.jpg
END:VEVENT
BEGIN:VEVENT
DTSTART;TZID=America/New_York:20270623T170000
DTEND;TZID=America/New_York:20270623T200000
DTSTAMP:20260424T232843
CREATED:20260422T213524Z
LAST-MODIFIED:20260423T224524Z
UID:10000784-1813770000-1813780800@canoeplace.com
SUMMARY:Music in the Garden
DESCRIPTION:Music in the Garden Line-up\n\nThe full lineup will be announced soon.\n\n 
URL:https://canoeplace.com/event/music-in-the-garden/2027-06-23/
LOCATION:Garden Lawn and Terrace
CATEGORIES:Live Music
ATTACH;FMTTYPE=image/jpeg:https://canoeplace.com/wp-content/uploads/2026/04/20250722_CanoePlace_Day1_Sonya1_689-5-1-scaled.jpg
END:VEVENT
END:VCALENDAR